BEGIN:VCALENDAR
VERSION:2.0
PRODID:-//Parish of Killavullen &amp; Annakisha - ECPv6.15.18//NONSGML v1.0//EN
CALSCALE:GREGORIAN
METHOD:PUBLISH
X-WR-CALNAME:Parish of Killavullen &amp; Annakisha
X-ORIGINAL-URL:https://www.killavullenparish.ie
X-WR-CALDESC:Events for Parish of Killavullen &amp; Annakisha
REFRESH-INTERVAL;VALUE=DURATION:PT1H
X-Robots-Tag:noindex
X-PUBLISHED-TTL:PT1H
BEGIN:VTIMEZONE
TZID:Europe/Dublin
BEGIN:STANDARD
TZOFFSETFROM:+0000
TZOFFSETTO:+0100
TZNAME:IST
DTSTART:20210328T010000
END:STANDARD
BEGIN:DAYLIGHT
TZOFFSETFROM:+0100
TZOFFSETTO:+0000
TZNAME:GMT
DTSTART:20211031T010000
END:DAYLIGHT
BEGIN:STANDARD
TZOFFSETFROM:+0000
TZOFFSETTO:+0100
TZNAME:IST
DTSTART:20220327T010000
END:STANDARD
BEGIN:DAYLIGHT
TZOFFSETFROM:+0100
TZOFFSETTO:+0000
TZNAME:GMT
DTSTART:20221030T010000
END:DAYLIGHT
BEGIN:STANDARD
TZOFFSETFROM:+0000
TZOFFSETTO:+0100
TZNAME:IST
DTSTART:20230326T010000
END:STANDARD
BEGIN:DAYLIGHT
TZOFFSETFROM:+0100
TZOFFSETTO:+0000
TZNAME:GMT
DTSTART:20231029T010000
END:DAYLIGHT
END:VTIMEZONE
BEGIN:VEVENT
DTSTART;TZID=Europe/Dublin:20221007T193000
DTEND;TZID=Europe/Dublin:20221007T203000
DTSTAMP:20260423T164403
CREATED:20221001T092206Z
LAST-MODIFIED:20221001T092206Z
UID:11510-1665171000-1665174600@www.killavullenparish.ie
SUMMARY:Young Christian Workers
DESCRIPTION:Young Christian Workers:  The group meets on Friday evening or Sunday afternoons on a regular basis.  New members\, aged Third Year and older\, are welcome.  Email ycwkillavullen@gmail.com for details.
URL:https://www.killavullenparish.ie/event/young-christian-workers-4/
END:VEVENT
BEGIN:VEVENT
DTSTART;TZID=Europe/Dublin:20221017T193000
DTEND;TZID=Europe/Dublin:20221017T203000
DTSTAMP:20260423T164403
CREATED:20221015T093544Z
LAST-MODIFIED:20221015T093545Z
UID:11519-1666035000-1666038600@www.killavullenparish.ie
SUMMARY:Parents Meeting
DESCRIPTION:Parents of primary school children are invited to a meeting in Killavullen Church this Monday\, October 17 from 7.30-8.30pm.  Marie McInerney\, Chaplain at Glanmire Community College will speak about handing on the faith in the home.  There will also be a time for prayer and information about becoming involved in the life of the parish.
URL:https://www.killavullenparish.ie/event/parents-meeting/
END:VEVENT
BEGIN:VEVENT
DTSTART;TZID=Europe/Dublin:20221024T193000
DTEND;TZID=Europe/Dublin:20221024T203000
DTSTAMP:20260423T164403
CREATED:20221022T105325Z
LAST-MODIFIED:20221022T105325Z
UID:11525-1666639800-1666643400@www.killavullenparish.ie
SUMMARY:Children's Liturgy of the Word - Leader Training
DESCRIPTION:Children’s Liturgy of the Word:  Children who attend 1st-3rd Class will soon be able to attend a Children’s version of the Liturgy of the Word at Sunday Mass in the meeting rooms of either church. These training sessions will prepare adult leaders who would like to become involved. \nLocation: Parish Office
URL:https://www.killavullenparish.ie/event/childrens-liturgy-of-the-word-leader-training/
END:VEVENT
BEGIN:VEVENT
DTSTART;TZID=Europe/Dublin:20221026T193000
DTEND;TZID=Europe/Dublin:20221026T203000
DTSTAMP:20260423T164403
CREATED:20221022T105423Z
LAST-MODIFIED:20221022T105423Z
UID:11527-1666812600-1666816200@www.killavullenparish.ie
SUMMARY:Children's Liturgy of the Word - Leader Training
DESCRIPTION:Children’s Liturgy of the Word:  Children who attend 1st-3rd Class will soon be able to attend a Children’s version of the Liturgy of the Word at Sunday Mass in the meeting rooms of either church. These training sessions will prepare adult leaders who would like to become involved. \nVenue: Parish Office
URL:https://www.killavullenparish.ie/event/childrens-liturgy-of-the-word-leader-training-2/
END:VEVENT
END:VCALENDAR