BEGIN:VCALENDAR
VERSION:2.0
PRODID:-//Parish of Killavullen &amp; Annakisha - ECPv6.15.18//NONSGML v1.0//EN
CALSCALE:GREGORIAN
METHOD:PUBLISH
X-ORIGINAL-URL:https://www.killavullenparish.ie
X-WR-CALDESC:Events for Parish of Killavullen &amp; Annakisha
REFRESH-INTERVAL;VALUE=DURATION:PT1H
X-Robots-Tag:noindex
X-PUBLISHED-TTL:PT1H
BEGIN:VTIMEZONE
TZID:Europe/Dublin
BEGIN:STANDARD
TZOFFSETFROM:+0000
TZOFFSETTO:+0100
TZNAME:IST
DTSTART:20210328T010000
END:STANDARD
BEGIN:DAYLIGHT
TZOFFSETFROM:+0100
TZOFFSETTO:+0000
TZNAME:GMT
DTSTART:20211031T010000
END:DAYLIGHT
BEGIN:STANDARD
TZOFFSETFROM:+0000
TZOFFSETTO:+0100
TZNAME:IST
DTSTART:20220327T010000
END:STANDARD
BEGIN:DAYLIGHT
TZOFFSETFROM:+0100
TZOFFSETTO:+0000
TZNAME:GMT
DTSTART:20221030T010000
END:DAYLIGHT
BEGIN:STANDARD
TZOFFSETFROM:+0000
TZOFFSETTO:+0100
TZNAME:IST
DTSTART:20230326T010000
END:STANDARD
BEGIN:DAYLIGHT
TZOFFSETFROM:+0100
TZOFFSETTO:+0000
TZNAME:GMT
DTSTART:20231029T010000
END:DAYLIGHT
END:VTIMEZONE
BEGIN:VEVENT
DTSTART;TZID=Europe/Dublin:20220923T193000
DTEND;TZID=Europe/Dublin:20220923T210000
DTSTAMP:20260421T180406
CREATED:20220916T213342Z
LAST-MODIFIED:20220916T213343Z
UID:11498-1663961400-1663966800@www.killavullenparish.ie
SUMMARY:YCW Meeting
DESCRIPTION:Killavullen Young Christian Workers meet regularly to respond to social and community needs and reflect on the Gospel using “See-Judge-Act”  The local section was founded in 2017.  Young Adults are welcome.
URL:https://www.killavullenparish.ie/event/ycw-meeting-3/
END:VEVENT
END:VCALENDAR