BEGIN:VCALENDAR
VERSION:2.0
PRODID:-//Parish of Killavullen &amp; Annakisha - ECPv6.15.18//NONSGML v1.0//EN
CALSCALE:GREGORIAN
METHOD:PUBLISH
X-ORIGINAL-URL:https://www.killavullenparish.ie
X-WR-CALDESC:Events for Parish of Killavullen &amp; Annakisha
REFRESH-INTERVAL;VALUE=DURATION:PT1H
X-Robots-Tag:noindex
X-PUBLISHED-TTL:PT1H
BEGIN:VTIMEZONE
TZID:Europe/Dublin
BEGIN:STANDARD
TZOFFSETFROM:+0000
TZOFFSETTO:+0100
TZNAME:IST
DTSTART:20200329T010000
END:STANDARD
BEGIN:DAYLIGHT
TZOFFSETFROM:+0100
TZOFFSETTO:+0000
TZNAME:GMT
DTSTART:20201025T010000
END:DAYLIGHT
BEGIN:STANDARD
TZOFFSETFROM:+0000
TZOFFSETTO:+0100
TZNAME:IST
DTSTART:20210328T010000
END:STANDARD
BEGIN:DAYLIGHT
TZOFFSETFROM:+0100
TZOFFSETTO:+0000
TZNAME:GMT
DTSTART:20211031T010000
END:DAYLIGHT
BEGIN:STANDARD
TZOFFSETFROM:+0000
TZOFFSETTO:+0100
TZNAME:IST
DTSTART:20220327T010000
END:STANDARD
BEGIN:DAYLIGHT
TZOFFSETFROM:+0100
TZOFFSETTO:+0000
TZNAME:GMT
DTSTART:20221030T010000
END:DAYLIGHT
END:VTIMEZONE
BEGIN:VEVENT
DTSTART;TZID=Europe/Dublin:20211129T193000
DTEND;TZID=Europe/Dublin:20211129T203000
DTSTAMP:20260423T152304
CREATED:20211123T115943Z
LAST-MODIFIED:20211123T115944Z
UID:11222-1638214200-1638217800@www.killavullenparish.ie
SUMMARY:Advent Lectio Divina
DESCRIPTION:Killavullen Parish Pastoral Council will lead an Advent Lectio Divina\, a prayerful reading of the Sunday Gospels of Advent on the Four Mondays of this Holy Season (November 29\, December 6\, 13 and 20 at 7.30pm from the Parish Office.  Please join us via the Zoom link available to parishioners each week.
URL:https://www.killavullenparish.ie/event/advent-lectio-divina/2021-11-29/
END:VEVENT
END:VCALENDAR