BEGIN:VCALENDAR
VERSION:2.0
PRODID:-//Parish of Killavullen &amp; Annakisha - ECPv6.15.18//NONSGML v1.0//EN
CALSCALE:GREGORIAN
METHOD:PUBLISH
X-ORIGINAL-URL:https://www.killavullenparish.ie
X-WR-CALDESC:Events for Parish of Killavullen &amp; Annakisha
REFRESH-INTERVAL;VALUE=DURATION:PT1H
X-Robots-Tag:noindex
X-PUBLISHED-TTL:PT1H
BEGIN:VTIMEZONE
TZID:Europe/Dublin
BEGIN:STANDARD
TZOFFSETFROM:+0000
TZOFFSETTO:+0100
TZNAME:IST
DTSTART:20200329T010000
END:STANDARD
BEGIN:DAYLIGHT
TZOFFSETFROM:+0100
TZOFFSETTO:+0000
TZNAME:GMT
DTSTART:20201025T010000
END:DAYLIGHT
BEGIN:STANDARD
TZOFFSETFROM:+0000
TZOFFSETTO:+0100
TZNAME:IST
DTSTART:20210328T010000
END:STANDARD
BEGIN:DAYLIGHT
TZOFFSETFROM:+0100
TZOFFSETTO:+0000
TZNAME:GMT
DTSTART:20211031T010000
END:DAYLIGHT
BEGIN:STANDARD
TZOFFSETFROM:+0000
TZOFFSETTO:+0100
TZNAME:IST
DTSTART:20220327T010000
END:STANDARD
BEGIN:DAYLIGHT
TZOFFSETFROM:+0100
TZOFFSETTO:+0000
TZNAME:GMT
DTSTART:20221030T010000
END:DAYLIGHT
END:VTIMEZONE
BEGIN:VEVENT
DTSTART;TZID=Europe/Dublin:20210502T100000
DTEND;TZID=Europe/Dublin:20210502T110000
DTSTAMP:20260424T045727
CREATED:20210430T211839Z
LAST-MODIFIED:20210430T211839Z
UID:11040-1619949600-1619953200@www.killavullenparish.ie
SUMMARY:5th Sunday Easter Zoom Mass
DESCRIPTION:The Parish of Killavullen and Annakisha is inviting you to a scheduled Zoom meeting. \nTopic: Sunday Mass\nTime: May 2\, 2021 10.00 AM GMT (virtual doors open at 9.45am) \nJoin Zoom Meeting\nhttps://us02web.zoom.us/j/86284499311?pwd=NGNyWFREaXFRc21ZeDcyU1BpNCs0Zz09 \nMeeting ID: 862 8449 9311\nPasscode: 963815 \n 
URL:https://www.killavullenparish.ie/event/5th-sunday-easter-zoom-mass/
END:VEVENT
BEGIN:VEVENT
DTSTART;TZID=Europe/Dublin:20210509T100000
DTEND;TZID=Europe/Dublin:20210509T110000
DTSTAMP:20260424T045727
CREATED:20210507T160453Z
LAST-MODIFIED:20210507T160453Z
UID:11045-1620554400-1620558000@www.killavullenparish.ie
SUMMARY:Zoom Mass link: Sunday May 9
DESCRIPTION:Gerard Condon is inviting you to a scheduled Zoom meeting. \nTopic: Parish of Killavullen Sunday Mass\nTime: May 9\, 2021 10.000 AM Dublin  (doors open at 9.45am) \nJoin Zoom Meeting\nhttps://us02web.zoom.us/j/85073162031?pwd=RUZ0eGNOVkxaUUhERnBoeGExajFnQT09 \nMeeting ID: 850 7316 2031\nPasscode: 215713
URL:https://www.killavullenparish.ie/event/zoom-mass-link-sunday-may-9/
END:VEVENT
END:VCALENDAR