BEGIN:VCALENDAR
VERSION:2.0
PRODID:-//Parish of Killavullen &amp; Annakisha - ECPv6.15.18//NONSGML v1.0//EN
CALSCALE:GREGORIAN
METHOD:PUBLISH
X-ORIGINAL-URL:https://www.killavullenparish.ie
X-WR-CALDESC:Events for Parish of Killavullen &amp; Annakisha
REFRESH-INTERVAL;VALUE=DURATION:PT1H
X-Robots-Tag:noindex
X-PUBLISHED-TTL:PT1H
BEGIN:VTIMEZONE
TZID:Europe/Dublin
BEGIN:STANDARD
TZOFFSETFROM:+0000
TZOFFSETTO:+0100
TZNAME:IST
DTSTART:20200329T010000
END:STANDARD
BEGIN:DAYLIGHT
TZOFFSETFROM:+0100
TZOFFSETTO:+0000
TZNAME:GMT
DTSTART:20201025T010000
END:DAYLIGHT
BEGIN:STANDARD
TZOFFSETFROM:+0000
TZOFFSETTO:+0100
TZNAME:IST
DTSTART:20210328T010000
END:STANDARD
BEGIN:DAYLIGHT
TZOFFSETFROM:+0100
TZOFFSETTO:+0000
TZNAME:GMT
DTSTART:20211031T010000
END:DAYLIGHT
BEGIN:STANDARD
TZOFFSETFROM:+0000
TZOFFSETTO:+0100
TZNAME:IST
DTSTART:20220327T010000
END:STANDARD
BEGIN:DAYLIGHT
TZOFFSETFROM:+0100
TZOFFSETTO:+0000
TZNAME:GMT
DTSTART:20221030T010000
END:DAYLIGHT
END:VTIMEZONE
BEGIN:VEVENT
DTSTART;TZID=Europe/Dublin:20210401T193000
DTEND;TZID=Europe/Dublin:20210401T203000
DTSTAMP:20260424T045739
CREATED:20210330T085922Z
LAST-MODIFIED:20210330T085933Z
UID:10992-1617305400-1617309000@www.killavullenparish.ie
SUMMARY:Holy Thursday Evening Mass of the Lord's Supper
DESCRIPTION:Killavullen Parish is inviting you to a scheduled Zoom meeting. \nTopic: Holy Thursday Mass\nTime: Apr 1\, 2021 07:30 PM Dublin – You can join any time after 7.00pm \nJoin Zoom Meeting\nhttps://us02web.zoom.us/j/81227708451?pwd=MTB3Sk93azBBY096eGpMRUw5bGQydz09 \nMeeting ID: 812 2770 8451\nPasscode: 680630 \n 
URL:https://www.killavullenparish.ie/event/holy-thursday-evening-mass-of-the-lords-supper/
END:VEVENT
BEGIN:VEVENT
DTSTART;TZID=Europe/Dublin:20210402T193000
DTEND;TZID=Europe/Dublin:20210402T203000
DTSTAMP:20260424T045739
CREATED:20210330T090117Z
LAST-MODIFIED:20210330T090131Z
UID:10994-1617391800-1617395400@www.killavullenparish.ie
SUMMARY:Good Friday: The Lord's Passion
DESCRIPTION:Killavullen Parish is inviting you to a scheduled Zoom meeting. \nTopic: Good Friday: The Lord’s Passion\nTime: Apr 2\, 2021 07:30 PM Dublin – virtual doors open at 7.00pm \nJoin Zoom Meeting\nhttps://us02web.zoom.us/j/87281156890?pwd=UVNZalo2THZMdXhhTk9nbWd1NkFhdz09 \nMeeting ID: 872 8115 6890\nPasscode: 687296 \n 
URL:https://www.killavullenparish.ie/event/good-friday-the-lords-passion/
END:VEVENT
BEGIN:VEVENT
DTSTART;TZID=Europe/Dublin:20210403T200000
DTEND;TZID=Europe/Dublin:20210403T213000
DTSTAMP:20260424T045739
CREATED:20210330T090308Z
LAST-MODIFIED:20210330T090308Z
UID:10996-1617480000-1617485400@www.killavullenparish.ie
SUMMARY:Holy Saturday: The Easter Vigil
DESCRIPTION:Gerard Condon is inviting you to a scheduled Zoom meeting. \nTopic: Holy Saturday: The Easter Vigil\nTime: Apr 3\, 2021 08.00pm PM Dublin – Virtual doors are open from 7.30pm \nJoin Zoom Meeting\nhttps://us02web.zoom.us/j/86484104293?pwd=dVZWRW1BcFlNNDZFbGRNV0ZnMW4vdz09 \nMeeting ID: 864 8410 4293\nPasscode: 719149 \n 
URL:https://www.killavullenparish.ie/event/holy-saturday-the-easter-vigil/
END:VEVENT
BEGIN:VEVENT
DTSTART;TZID=Europe/Dublin:20210404T100000
DTEND;TZID=Europe/Dublin:20210404T110000
DTSTAMP:20260424T045739
CREATED:20210330T090507Z
LAST-MODIFIED:20210330T090508Z
UID:10998-1617530400-1617534000@www.killavullenparish.ie
SUMMARY:Easter Sunday Mass
DESCRIPTION:The Parish of Killavullen and Annakisha  is inviting you to a scheduled Zoom meeting. \nTopic: Easter Sunday Morning Mass\nTime: Apr 4\, 2021 10.00 AM Dublin – the virtual doors are open from 9.30am \nJoin Zoom Meeting\nhttps://us02web.zoom.us/j/83954663944?pwd=YksrNFFvY0hHNCttcFkzdDgzbHdPUT09 \nMeeting ID: 839 5466 3944\nPasscode: 313404 \n 
URL:https://www.killavullenparish.ie/event/easter-sunday-mass/
END:VEVENT
BEGIN:VEVENT
DTSTART;TZID=Europe/Dublin:20210411T094500
DTEND;TZID=Europe/Dublin:20210411T110000
DTSTAMP:20260424T045739
CREATED:20210409T133626Z
LAST-MODIFIED:20210409T133626Z
UID:11015-1618134300-1618138800@www.killavullenparish.ie
SUMMARY:Sunday Mass
DESCRIPTION:The Parish of Killavullen and Annakisha is inviting you to a scheduled Zoom meeting. \nTopic: Mass for 2nd Sunday of Easter\nTime: Apr 11\, 2021 10.00am (Dublin/GMT) – the virtual doors open at 9.45am \nJoin Zoom Meeting\nhttps://us02web.zoom.us/j/84866667213?pwd=ZmRMbUI3OXh3bVY3eGd3T2VXcm15dz09 \nMeeting ID: 848 6666 7213\nPasscode: 659880 \n 
URL:https://www.killavullenparish.ie/event/sunday-mass/
END:VEVENT
BEGIN:VEVENT
DTSTART;TZID=Europe/Dublin:20210418T100000
DTEND;TZID=Europe/Dublin:20210418T110000
DTSTAMP:20260424T045739
CREATED:20210416T102949Z
LAST-MODIFIED:20210416T102950Z
UID:11025-1618740000-1618743600@www.killavullenparish.ie
SUMMARY:April 18\, 2021
DESCRIPTION:Gerard Condon is inviting you to a scheduled Zoom meeting. \nTopic: Killavullen Parish Sunday  Mass\nTime: Apr 18\, 2021 09:30 AM Dublin \nJoin Zoom Meeting\nhttps://us02web.zoom.us/j/83971597021?pwd=d21EVkxtMlpCb3VPdEFJcFhiY3ZMQT09 \nMeeting ID: 839 7159 7021\nPasscode: 737666 \n 
URL:https://www.killavullenparish.ie/event/april-18-2021/
END:VEVENT
BEGIN:VEVENT
DTSTART;TZID=Europe/Dublin:20210425T100000
DTEND;TZID=Europe/Dublin:20210425T110000
DTSTAMP:20260424T045739
CREATED:20210423T170520Z
LAST-MODIFIED:20210423T170520Z
UID:11031-1619344800-1619348400@www.killavullenparish.ie
SUMMARY:Mass for Fourth Sunday of easter
DESCRIPTION:Topic: Parish of Killavullen Sunday Mass\nTime: Apr 25\, 2021 01000 AM Dublin – the room is open from 9.45am \nJoin Zoom Meeting\nhttps://us02web.zoom.us/j/85432918377?pwd=bGszS2dwS2JKUEVlSUlyeDNMQWg4Zz09 \nMeeting ID: 854 3291 8377\nPasscode: 591615 \n 
URL:https://www.killavullenparish.ie/event/mass-for-fourth-sunday-of-easter/
END:VEVENT
END:VCALENDAR