BEGIN:VCALENDAR
VERSION:2.0
PRODID:-//Parish of Killavullen &amp; Annakisha - ECPv6.15.18//NONSGML v1.0//EN
CALSCALE:GREGORIAN
METHOD:PUBLISH
X-WR-CALNAME:Parish of Killavullen &amp; Annakisha
X-ORIGINAL-URL:https://www.killavullenparish.ie
X-WR-CALDESC:Events for Parish of Killavullen &amp; Annakisha
REFRESH-INTERVAL;VALUE=DURATION:PT1H
X-Robots-Tag:noindex
X-PUBLISHED-TTL:PT1H
BEGIN:VTIMEZONE
TZID:Europe/Dublin
BEGIN:STANDARD
TZOFFSETFROM:+0000
TZOFFSETTO:+0100
TZNAME:IST
DTSTART:20200329T010000
END:STANDARD
BEGIN:DAYLIGHT
TZOFFSETFROM:+0100
TZOFFSETTO:+0000
TZNAME:GMT
DTSTART:20201025T010000
END:DAYLIGHT
BEGIN:STANDARD
TZOFFSETFROM:+0000
TZOFFSETTO:+0100
TZNAME:IST
DTSTART:20210328T010000
END:STANDARD
BEGIN:DAYLIGHT
TZOFFSETFROM:+0100
TZOFFSETTO:+0000
TZNAME:GMT
DTSTART:20211031T010000
END:DAYLIGHT
BEGIN:STANDARD
TZOFFSETFROM:+0000
TZOFFSETTO:+0100
TZNAME:IST
DTSTART:20220327T010000
END:STANDARD
BEGIN:DAYLIGHT
TZOFFSETFROM:+0100
TZOFFSETTO:+0000
TZNAME:GMT
DTSTART:20221030T010000
END:DAYLIGHT
END:VTIMEZONE
BEGIN:VEVENT
DTSTART;TZID=Europe/Dublin:20210307T100000
DTEND;TZID=Europe/Dublin:20210307T103000
DTSTAMP:20260423T094853
CREATED:20210305T230924Z
LAST-MODIFIED:20210305T230924Z
UID:10953-1615111200-1615113000@www.killavullenparish.ie
SUMMARY:Sunday Zoom Mass
DESCRIPTION:Paul Murray is inviting you to a scheduled Zoom meeting.\n\nTopic: Killavullen Parish Mass\nTime: Mar 7\, 2021 10:00 AM London\n\nJoin Zoom Meeting\nhttps://us04web.zoom.us/j/73974366634?pwd=akp4WTdHYVY3SzhwUFZGdHpCajRpdz09\n\nMeeting ID: 739 7436 6634\nPasscode: yp91QL
URL:https://www.killavullenparish.ie/event/sunday-zoom-mass/
END:VEVENT
BEGIN:VEVENT
DTSTART;TZID=Europe/Dublin:20210314T100000
DTEND;TZID=Europe/Dublin:20210314T110000
DTSTAMP:20260423T094853
CREATED:20210312T193357Z
LAST-MODIFIED:20210312T232147Z
UID:10957-1615716000-1615719600@www.killavullenparish.ie
SUMMARY:Sunday Zoom Mass for Lent 4
DESCRIPTION:Gerard Condon is inviting you to a scheduled Zoom meeting. \nTopic: Killavullen / Annakisha Mass – Lent Sunday 4\nTime: Mar 14\, 2021 09:30 AM Dublin \nJoin Zoom Meeting\nhttps://us02web.zoom.us/j/88070772135?pwd=S3ZXVHV1WmNXZkZqYWJqelZrLzB2QT09 \nMeeting ID: 880 7077 2135\nPasscode: 196282\nOne tap mobile\n+35316533897\,\,88070772135#\,\,\,\,*196282# Ireland\n+35316533898\,\,88070772135#\,\,\,\,*196282# Ireland \nDial by your location\n+353 1 653 3897 Ireland\n+353 1 653 3898 Ireland\n+353 6 163 9031 Ireland\n+353 1 240 8941 Ireland\n+353 1 536 9320 Ireland\n+353 1 653 3895 Ireland\nMeeting ID: 880 7077 2135\nPasscode: 196282\nFind your local number: https://us02web.zoom.us/u/kFvrjwrr2 \n 
URL:https://www.killavullenparish.ie/event/sunday-zoom-mass-2/
END:VEVENT
BEGIN:VEVENT
DTSTART;TZID=Europe/Dublin:20210317T100000
DTEND;TZID=Europe/Dublin:20210317T110000
DTSTAMP:20260423T094853
CREATED:20210312T193819Z
LAST-MODIFIED:20210312T232122Z
UID:10961-1615975200-1615978800@www.killavullenparish.ie
SUMMARY:St Patrick's Day Mass
DESCRIPTION:Killavullen Parish  is inviting you to a scheduled Zoom meeting. \nTopic: St Patrick’s Day Mass\nTime: Mar 17\, 2021 09:50 AM Dublin \nJoin Zoom Meeting\nhttps://us02web.zoom.us/j/82819206769?pwd=NFFoVk9hci8zZC8wTkU0Z0JOOE1qQT09 \nMeeting ID: 828 1920 6769\nPasscode: 658552 \n 
URL:https://www.killavullenparish.ie/event/st-patricks-day-mass/
END:VEVENT
BEGIN:VEVENT
DTSTART;TZID=Europe/Dublin:20210321T093000
DTEND;TZID=Europe/Dublin:20210321T110000
DTSTAMP:20260423T094853
CREATED:20210319T172245Z
LAST-MODIFIED:20210319T172245Z
UID:10980-1616319000-1616324400@www.killavullenparish.ie
SUMMARY:Sunday Mass\, March 21\, 2021
DESCRIPTION:The Parish of Killavullen & Annakisha  is inviting you to a scheduled Zoom meeting. \nTopic: Mass for Sunday\, March 21\nTime: Mar 21\, 2021 10.00 AM Dublin  (the chat room is open from 9.45am) \nJoin Zoom Meeting\nhttps://us02web.zoom.us/j/82345676414?pwd=VnhLd21hRm40UGwwYm16aUlVUHpHQT09 \nMeeting ID: 823 4567 6414\nPasscode: 855954 \n 
URL:https://www.killavullenparish.ie/event/sunday-mass-march-21-2021/
END:VEVENT
BEGIN:VEVENT
DTSTART;TZID=Europe/Dublin:20210328T093000
DTEND;TZID=Europe/Dublin:20210328T230000
DTSTAMP:20260423T094853
CREATED:20210326T222142Z
LAST-MODIFIED:20210326T222142Z
UID:10989-1616923800-1616972400@www.killavullenparish.ie
SUMMARY:Palm Sunday Mass
DESCRIPTION:Topic: Palm Sunday Mass for Killavullen/Annakisha Parish\nTime: Mar 28\, 2021 09:45 AM Dublin (Mass begins at 10.00am) \nTo Join Zoom Meeting click here:\nhttps://us02web.zoom.us/j/81368925542?pwd=NFZiWVgvODNNb0IwVGRLZHptQnErQT09\nMeeting ID: 813 6892 5542\nPasscode: 601670
URL:https://www.killavullenparish.ie/event/palm-sunday-mass/
END:VEVENT
END:VCALENDAR