BEGIN:VCALENDAR
VERSION:2.0
PRODID:-//Parish of Killavullen &amp; Annakisha - ECPv6.15.18//NONSGML v1.0//EN
CALSCALE:GREGORIAN
METHOD:PUBLISH
X-WR-CALNAME:Parish of Killavullen &amp; Annakisha
X-ORIGINAL-URL:https://www.killavullenparish.ie
X-WR-CALDESC:Events for Parish of Killavullen &amp; Annakisha
REFRESH-INTERVAL;VALUE=DURATION:PT1H
X-Robots-Tag:noindex
X-PUBLISHED-TTL:PT1H
BEGIN:VTIMEZONE
TZID:Europe/Dublin
BEGIN:STANDARD
TZOFFSETFROM:+0000
TZOFFSETTO:+0100
TZNAME:IST
DTSTART:20200329T010000
END:STANDARD
BEGIN:DAYLIGHT
TZOFFSETFROM:+0100
TZOFFSETTO:+0000
TZNAME:GMT
DTSTART:20201025T010000
END:DAYLIGHT
BEGIN:STANDARD
TZOFFSETFROM:+0000
TZOFFSETTO:+0100
TZNAME:IST
DTSTART:20210328T010000
END:STANDARD
BEGIN:DAYLIGHT
TZOFFSETFROM:+0100
TZOFFSETTO:+0000
TZNAME:GMT
DTSTART:20211031T010000
END:DAYLIGHT
BEGIN:STANDARD
TZOFFSETFROM:+0000
TZOFFSETTO:+0100
TZNAME:IST
DTSTART:20220327T010000
END:STANDARD
BEGIN:DAYLIGHT
TZOFFSETFROM:+0100
TZOFFSETTO:+0000
TZNAME:GMT
DTSTART:20221030T010000
END:DAYLIGHT
END:VTIMEZONE
BEGIN:VEVENT
DTSTART;VALUE=DATE:20210217
DTEND;VALUE=DATE:20210218
DTSTAMP:20260423T172318
CREATED:20210211T221022Z
LAST-MODIFIED:20210211T222630Z
UID:10889-1613520000-1613606399@www.killavullenparish.ie
SUMMARY:Ash Wednesday Prayer at Home
DESCRIPTION:Click on the link to view the home-based prayer service to mark Ash Wednesday 2021 \nAsh Wednesday Prayer Service
URL:https://www.killavullenparish.ie/event/ash-wednesday-prayer-at-home/
END:VEVENT
END:VCALENDAR