BEGIN:VCALENDAR
VERSION:2.0
PRODID:-//Parish of Killavullen &amp; Annakisha - ECPv6.15.18//NONSGML v1.0//EN
CALSCALE:GREGORIAN
METHOD:PUBLISH
X-WR-CALNAME:Parish of Killavullen &amp; Annakisha
X-ORIGINAL-URL:https://www.killavullenparish.ie
X-WR-CALDESC:Events for Parish of Killavullen &amp; Annakisha
REFRESH-INTERVAL;VALUE=DURATION:PT1H
X-Robots-Tag:noindex
X-PUBLISHED-TTL:PT1H
BEGIN:VTIMEZONE
TZID:Europe/Dublin
BEGIN:STANDARD
TZOFFSETFROM:+0000
TZOFFSETTO:+0100
TZNAME:IST
DTSTART:20190331T010000
END:STANDARD
BEGIN:DAYLIGHT
TZOFFSETFROM:+0100
TZOFFSETTO:+0000
TZNAME:GMT
DTSTART:20191027T010000
END:DAYLIGHT
BEGIN:STANDARD
TZOFFSETFROM:+0000
TZOFFSETTO:+0100
TZNAME:IST
DTSTART:20200329T010000
END:STANDARD
BEGIN:DAYLIGHT
TZOFFSETFROM:+0100
TZOFFSETTO:+0000
TZNAME:GMT
DTSTART:20201025T010000
END:DAYLIGHT
BEGIN:STANDARD
TZOFFSETFROM:+0000
TZOFFSETTO:+0100
TZNAME:IST
DTSTART:20210328T010000
END:STANDARD
BEGIN:DAYLIGHT
TZOFFSETFROM:+0100
TZOFFSETTO:+0000
TZNAME:GMT
DTSTART:20211031T010000
END:DAYLIGHT
END:VTIMEZONE
BEGIN:VEVENT
DTSTART;TZID=Europe/Dublin:20200809T140000
DTEND;TZID=Europe/Dublin:20200809T180000
DTSTAMP:20260423T154742
CREATED:20200808T162040Z
LAST-MODIFIED:20200808T171619Z
UID:10669-1596981600-1596996000@www.killavullenparish.ie
SUMMARY:Young Christian Workers
DESCRIPTION:The next YCW meeting will take place on Sunday afternoon\, August 16.  The group will make the Canon Sheehan Loop Walk (weather permitting) and celebrate Mass at the Penal Mass Rock.  All young adults (aged TY and older) are welcome.  Contact Rose Murphy; Sean Murphy; Kieran Roche or Fr. Gerard to take part.
URL:https://www.killavullenparish.ie/event/young-christian-workers-3/
END:VEVENT
BEGIN:VEVENT
DTSTART;TZID=Europe/Dublin:20200810T193000
DTEND;TZID=Europe/Dublin:20200810T203000
DTSTAMP:20260423T154742
CREATED:20200808T161844Z
LAST-MODIFIED:20200808T161844Z
UID:10667-1597087800-1597091400@www.killavullenparish.ie
SUMMARY:Pre-Baptism Meeting
DESCRIPTION:The meeting will be held in a socially distanced manner in the Parish Office. \nCall the parish office to reserve a place.
URL:https://www.killavullenparish.ie/event/pre-baptism-meeting/
END:VEVENT
END:VCALENDAR