BEGIN:VCALENDAR
VERSION:2.0
PRODID:-//Parish of Killavullen &amp; Annakisha - ECPv6.15.18//NONSGML v1.0//EN
CALSCALE:GREGORIAN
METHOD:PUBLISH
X-WR-CALNAME:Parish of Killavullen &amp; Annakisha
X-ORIGINAL-URL:https://www.killavullenparish.ie
X-WR-CALDESC:Events for Parish of Killavullen &amp; Annakisha
REFRESH-INTERVAL;VALUE=DURATION:PT1H
X-Robots-Tag:noindex
X-PUBLISHED-TTL:PT1H
BEGIN:VTIMEZONE
TZID:UTC
BEGIN:STANDARD
TZOFFSETFROM:+0000
TZOFFSETTO:+0000
TZNAME:UTC
DTSTART:20180101T000000
END:STANDARD
END:VTIMEZONE
BEGIN:VEVENT
DTSTART;TZID=UTC:20190615T190000
DTEND;TZID=UTC:20190615T190000
DTSTAMP:20260420T031519
CREATED:20190529T072033Z
LAST-MODIFIED:20190529T072109Z
UID:10145-1560625200-1560625200@www.killavullenparish.ie
SUMMARY:Young Christian Workers - Meeting
DESCRIPTION:The next meeting will take place on June 15\, following the 7.00pm Mass. A concert “Anthems from Annakisha” is being planned for October 4th.\nNew members welcome.
URL:https://www.killavullenparish.ie/event/young-christian-workers-meeting/
END:VEVENT
BEGIN:VEVENT
DTSTART;TZID=UTC:20190531T080000
DTEND;TZID=UTC:20190605T170000
DTSTAMP:20260420T031519
CREATED:20180814T114321Z
LAST-MODIFIED:20190529T071853Z
UID:9802-1559289600-1559754000@www.killavullenparish.ie
SUMMARY:Cloyne Diocesan Pilgrimage to Lourdes 2019
DESCRIPTION:
URL:https://www.killavullenparish.ie/event/test-event-2/
END:VEVENT
BEGIN:VEVENT
DTSTART;TZID=UTC:20190525T193000
DTEND;TZID=UTC:20190525T193000
DTSTAMP:20260420T031519
CREATED:20190520T141935Z
LAST-MODIFIED:20190520T142300Z
UID:10050-1558812600-1558812600@www.killavullenparish.ie
SUMMARY:Young Christian Workers
DESCRIPTION:A meeting will take place in Killavullen Church meeting room on Saturday\, May 25 at 7.30pm. We will prepare a Mass for those studying for the Junior and Leaving Certs on June 1st at 7.00pm. All second level students are welcome to the planning meeting.
URL:https://www.killavullenparish.ie/event/young-christian-workers/
END:VEVENT
END:VCALENDAR