BEGIN:VCALENDAR
VERSION:2.0
PRODID:-//Parish of Killavullen &amp; Annakisha - ECPv6.15.18//NONSGML v1.0//EN
CALSCALE:GREGORIAN
METHOD:PUBLISH
X-ORIGINAL-URL:https://www.killavullenparish.ie
X-WR-CALDESC:Events for Parish of Killavullen &amp; Annakisha
REFRESH-INTERVAL;VALUE=DURATION:PT1H
X-Robots-Tag:noindex
X-PUBLISHED-TTL:PT1H
BEGIN:VTIMEZONE
TZID:Europe/Dublin
BEGIN:STANDARD
TZOFFSETFROM:+0000
TZOFFSETTO:+0100
TZNAME:IST
DTSTART:20220327T010000
END:STANDARD
BEGIN:DAYLIGHT
TZOFFSETFROM:+0100
TZOFFSETTO:+0000
TZNAME:GMT
DTSTART:20221030T010000
END:DAYLIGHT
BEGIN:STANDARD
TZOFFSETFROM:+0000
TZOFFSETTO:+0100
TZNAME:IST
DTSTART:20230326T010000
END:STANDARD
BEGIN:DAYLIGHT
TZOFFSETFROM:+0100
TZOFFSETTO:+0000
TZNAME:GMT
DTSTART:20231029T010000
END:DAYLIGHT
BEGIN:STANDARD
TZOFFSETFROM:+0000
TZOFFSETTO:+0100
TZNAME:IST
DTSTART:20240331T010000
END:STANDARD
BEGIN:DAYLIGHT
TZOFFSETFROM:+0100
TZOFFSETTO:+0000
TZNAME:GMT
DTSTART:20241027T010000
END:DAYLIGHT
BEGIN:STANDARD
TZOFFSETFROM:+0000
TZOFFSETTO:+0100
TZNAME:IST
DTSTART:20250330T010000
END:STANDARD
BEGIN:DAYLIGHT
TZOFFSETFROM:+0100
TZOFFSETTO:+0000
TZNAME:GMT
DTSTART:20251026T010000
END:DAYLIGHT
BEGIN:STANDARD
TZOFFSETFROM:+0000
TZOFFSETTO:+0100
TZNAME:IST
DTSTART:20260329T010000
END:STANDARD
BEGIN:DAYLIGHT
TZOFFSETFROM:+0100
TZOFFSETTO:+0000
TZNAME:GMT
DTSTART:20261025T010000
END:DAYLIGHT
BEGIN:STANDARD
TZOFFSETFROM:+0000
TZOFFSETTO:+0100
TZNAME:IST
DTSTART:20270328T010000
END:STANDARD
BEGIN:DAYLIGHT
TZOFFSETFROM:+0100
TZOFFSETTO:+0000
TZNAME:GMT
DTSTART:20271031T010000
END:DAYLIGHT
END:VTIMEZONE
BEGIN:VEVENT
DTSTART;TZID=Europe/Dublin:20231222T193000
DTEND;TZID=Europe/Dublin:20231222T203000
DTSTAMP:20260422T225224
CREATED:20231215T203128Z
LAST-MODIFIED:20231215T203128Z
UID:11850-1703273400-1703277000@www.killavullenparish.ie
SUMMARY:Advent Reconciliation and Holy Hour
DESCRIPTION:A Time for quiet prayer before the Blessed Sacrament will be held in Killavullen Church at this time. \nThe Sacrament of Reconciliation will be celebrated during the Holy Hour.
URL:https://www.killavullenparish.ie/event/advent-reconciliation-and-holy-hour/
END:VEVENT
BEGIN:VEVENT
DTSTART;VALUE=DATE:20240323
DTEND;VALUE=DATE:20240408
DTSTAMP:20260422T225224
CREATED:20240323T085326Z
LAST-MODIFIED:20240323T085326Z
UID:11934-1711152000-1712534399@www.killavullenparish.ie
SUMMARY:Holy Week 2024
DESCRIPTION:Come join us in for the Masses and services of Holy Week 2024! \nThe times and places of our ceremonies are on found in the “Current Newsletter” section of our website.
URL:https://www.killavullenparish.ie/event/holy-week-2024/
END:VEVENT
BEGIN:VEVENT
DTSTART;TZID=Europe/Dublin:20250405T100000
DTEND;TZID=Europe/Dublin:20250405T110000
DTSTAMP:20260422T225224
CREATED:20250329T223721Z
LAST-MODIFIED:20250329T223722Z
UID:12233-1743847200-1743850800@www.killavullenparish.ie
SUMMARY:Stations of the Cross
DESCRIPTION:a Lenten Stations of the Cross will take place at Nano Nagle Birthplace:  The route of the pilgrim walk will encompass the perimeter walk (“Cosmic Walk”) with stops along the way to reflect on each of the fourteen steps that Jesus took on the road to Calvary.  Gather in the Carpark for 9.55am.  All are welcome.  Refreshments will follow at Nano Nagle Birthplace.
URL:https://www.killavullenparish.ie/event/stations-of-the-cross/
END:VEVENT
BEGIN:VEVENT
DTSTART;TZID=Europe/Dublin:20250511T110000
DTEND;TZID=Europe/Dublin:20250511T123000
DTSTAMP:20260422T225224
CREATED:20250503T154307Z
LAST-MODIFIED:20250503T154308Z
UID:12266-1746961200-1746966600@www.killavullenparish.ie
SUMMARY:Nano Nagle Birthplace
DESCRIPTION:The annual parish Mass at Nano Nagle Birthplace will take place at 11.30am on Sunday 4. \nThis will replace the regular 11.30am Mass for the Fourth Sunday of Easter.
URL:https://www.killavullenparish.ie/event/nano-nagle-birthplace/
END:VEVENT
BEGIN:VEVENT
DTSTART;TZID=Europe/Dublin:20251102T100000
DTEND;TZID=Europe/Dublin:20251102T153000
DTSTAMP:20260422T225224
CREATED:20251025T222205Z
LAST-MODIFIED:20251025T222205Z
UID:12407-1762077600-1762097400@www.killavullenparish.ie
SUMMARY:Cemetery Prayers - Feast of All Souls (November 2\, 2025)
DESCRIPTION:A short prayer service will be held in four of the parish’s cemeteries on Sunday\, November 2 as follows: \nFollowing the 10.00am Mass at Annakisha Cemetery \nFollowing the 11.30am Mass at Killavullen Church Cemetery \nAt 2.30pm at Carrigacunna Cemetery \nAt 3.15pm at Monanimy Cemetery.
URL:https://www.killavullenparish.ie/event/cemetery-prayers-feast-of-all-souls-november-2-2025/
END:VEVENT
BEGIN:VEVENT
DTSTART;TZID=Europe/Dublin:20251222T190000
DTEND;TZID=Europe/Dublin:20251222T200000
DTSTAMP:20260422T225224
CREATED:20251220T174417Z
LAST-MODIFIED:20251220T174418Z
UID:12461-1766430000-1766433600@www.killavullenparish.ie
SUMMARY:Advent Holy Hour
DESCRIPTION:
URL:https://www.killavullenparish.ie/event/advent-holy-hour/
END:VEVENT
BEGIN:VEVENT
DTSTART;TZID=Europe/Dublin:20260218T080000
DTEND;TZID=Europe/Dublin:20260218T200000
DTSTAMP:20260422T225224
CREATED:20260213T111019Z
LAST-MODIFIED:20260213T111019Z
UID:12511-1771401600-1771444800@www.killavullenparish.ie
SUMMARY:Ash Wednesday 2026
DESCRIPTION:Mass for Ash Wednesday (February 18) will be celebrated at Annakisha Church at 9.30am and in Killavullen at 7.00pm
URL:https://www.killavullenparish.ie/event/ash-wednesday-2026/
END:VEVENT
END:VCALENDAR